BEGIN:VCALENDAR
VERSION:2.0
PRODID:-//Tukios.com/
BEGIN:VEVENT
UID:a22d0994-e66a-4412-b963-f0fc84372508@www.memorialchapel.net
DTSTAMP:20260424T182725Z
DTSTART:20260428T150000Z
DTEND:20260428T170000Z
SUMMARY:Visitation
DESCRIPTION:
URL:https://www.memorialchapel.net/obituaries/betty-witt
LOCATION: 47617 Gundlach Road  Houghton MI 49931
GEO:47.1067631;-88.5698964
END:VEVENT
END:VCALENDAR