BEGIN:VCALENDAR
VERSION:2.0
PRODID:-//Tukios.com/
BEGIN:VEVENT
UID:68bc0e2f-bbc6-43ed-a164-d1ab2ee40393@www.memorialchapel.net
DTSTAMP:20260424T182536Z
DTSTART:20260428T170000Z
DTEND:20260428T180000Z
SUMMARY:Funeral Service
DESCRIPTION:
URL:https://www.memorialchapel.net/obituaries/betty-witt
LOCATION: 47617 Gundlach Road  Houghton MI 49931
GEO:47.1067631;-88.5698964
END:VEVENT
END:VCALENDAR