BEGIN:VCALENDAR
VERSION:2.0
PRODID:-//Tukios.com/
BEGIN:VEVENT
UID:f118d36a-a045-420c-b2a9-eaa3af0d3009@www.memorialchapel.net
DTSTAMP:20260421T083356Z
DTSTART:20260213T150000Z
DTEND:20260213T160000Z
SUMMARY:Visitation
DESCRIPTION:
URL:https://www.memorialchapel.net/obituaries/debra-kangas
LOCATION:  M-26  South Range MI 49963
GEO:47.0736203;-88.6405602
END:VEVENT
END:VCALENDAR