BEGIN:VCALENDAR
VERSION:2.0
PRODID:-//Tukios.com/
BEGIN:VEVENT
UID:4eca8149-3879-40ba-a691-08c0f14941a4@www.memorialchapel.net
DTSTAMP:20260421T082632Z
DTSTART:20260214T140000Z
DTEND:20260214T170000Z
SUMMARY:Visitation
DESCRIPTION:
URL:https://www.memorialchapel.net/obituaries/thomas-stimac
LOCATION:Grace Lutheran Church  M-26  South Range MI 49963
GEO:47.0736203;-88.6405602
END:VEVENT
END:VCALENDAR